BEGIN:VCALENDAR
VERSION:2.0
PRODID:-//ChamberMaster//Event Calendar 2.0//EN
METHOD:PUBLISH
X-PUBLISHED-TTL:P3D
REFRESH-INTERVAL:P3D
CALSCALE:GREGORIAN
BEGIN:VEVENT
DTSTART:20261024T220000Z
DTEND:20261025T030000Z
X-MICROSOFT-CDO-ALLDAYEVENT:FALSE
SUMMARY:Voice of the Future
DESCRIPTION:Voice of the Future \n\nis an annual event held in the Chippewa Valley as one of the main fundraisers for the Chippewa Falls Boys & Girls Club. This singing competition features local vocalists ages 13+ & imitates the awarding winning TV show   The Voice.
X-ALT-DESC;FMTTYPE=text/html:<span style="font-size:14px\;"><strong>Voice of the Future</strong></span><span style="background-color:rgb(255\, 255\, 255)\; font-family:roboto\,helvetica\,arial\,verdana\,sans-serif\; font-size:18px"><span style="font-size:14px\;">&nbsp\;</span><br />\n<span style="font-size:12px\;">is an annual event held in the Chippewa Valley as one of the main fundraisers for the Chippewa Falls Boys &amp\; Girls Club. This singing competition features local vocalists ages 13+ &amp\; imitates the awarding winning TV show &ndash\; The Voice.</span></span>
LOCATION:Heyde Center for the Arts 3 S. High St. Chippewa Falls\, WI 54729
UID:e.64.37288
SEQUENCE:3
DTSTAMP:20260426T032335Z
URL:https://business.menomoniechamber.org/events/details/voice-of-the-future-37288
END:VEVENT

END:VCALENDAR
