BEGIN:VCALENDAR
VERSION:2.0
PRODID:-//ChamberMaster//Event Calendar 2.0//EN
METHOD:PUBLISH
X-PUBLISHED-TTL:P3D
REFRESH-INTERVAL:P3D
CALSCALE:GREGORIAN
BEGIN:VEVENT
DTSTART:20230104T000000Z
DTEND:20230104T010000Z
X-MICROSOFT-CDO-ALLDAYEVENT:FALSE
SUMMARY:Pages and Pints Book Club
DESCRIPTION:The Pages and Pints book club is your kind of book club - come once or come to all - it's up to you! Library staff will host at brewery n nic in Menomonie from 6-7pm on January 3\, February 7\, and March 7. Don't like beer? You are welcome! Like beer? Brewery n nic has plenty of options. Hope to see you there! January 3 - The Guncle by Steven Rowley February 7 - Firekeeper's Daughter by Angeline Boulley March 7 - Vanishing Half by Brit Bennett
X-ALT-DESC;FMTTYPE=text/html:The Pages and Pints book club is your kind of book club - come once or come to all - it&#39\;s up to you! Library staff will host at brewery n&oslash\;nic in Menomonie from 6-7pm on January 3\, February 7\, and March 7. Don&#39\;t like beer? You are welcome! Like beer? Brewery n&oslash\;nic has plenty of options. Hope to see you there! January 3 - The Guncle by Steven Rowley February 7 - Firekeeper&#39\;s Daughter by Angeline Boulley March 7 - Vanishing Half by Brit Bennett
LOCATION:Brewery Nonic 621 4th St W Menomonie\, WI 54751
UID:e.64.34694
SEQUENCE:3
DTSTAMP:20260420T023258Z
URL:https://business.menomoniechamber.org/events/details/pages-and-pints-book-club-01-03-2023-34694
END:VEVENT

END:VCALENDAR
