BEGIN:VCALENDAR
VERSION:2.0
PRODID:-//ChamberMaster//Event Calendar 2.0//EN
METHOD:PUBLISH
X-PUBLISHED-TTL:P3D
REFRESH-INTERVAL:P3D
CALSCALE:GREGORIAN
BEGIN:VEVENT
DTSTART:20260912T220000Z
DTEND:20260913T010000Z
X-MICROSOFT-CDO-ALLDAYEVENT:FALSE
SUMMARY:Menomonie's Got Talent
DESCRIPTION:Join us for a fun-filled night celebrating local talent\, community\, and creativity!\n\n\n\nFrom music to comedy and everything in between\, you won't want to miss this exciting showcase.\n\nGrab your friends\, enjoy the party\, and cheer on incredible local performers\, all while supporting a great cause!
X-ALT-DESC;FMTTYPE=text/html:<span style="font-family:segoe ui historic\,segoe ui\,helvetica\,arial\,sans-serif\; font-size:15px">Join us for a fun-filled night celebrating local talent\, community\, and creativity!<br />\n<br />\nFrom music to comedy and everything in between\, you won&rsquo\;t want to miss this exciting showcase.<br />\nGrab your friends\, enjoy the party\, and cheer on incredible local performers\, all while supporting a great cause!</span>
LOCATION:Historic Mabel Tainter Center for the Arts 205 Main St. E Menomonie\, WI 54751
UID:e.64.37289
SEQUENCE:3
DTSTAMP:20260426T020518Z
URL:https://business.menomoniechamber.org/events/details/menomonie-s-got-talent-09-12-2026-37289
END:VEVENT

END:VCALENDAR
