BEGIN:VCALENDAR
VERSION:2.0
PRODID:-//ChamberMaster//Event Calendar 2.0//EN
METHOD:PUBLISH
X-PUBLISHED-TTL:P3D
REFRESH-INTERVAL:P3D
CALSCALE:GREGORIAN
BEGIN:VEVENT
DTSTART:20260513T213000Z
DTEND:20260513T230000Z
X-MICROSOFT-CDO-ALLDAYEVENT:FALSE
SUMMARY:Connect Work Menomonie
DESCRIPTION:Connect Work Menomonie is a low-key\, fun networking event.\n\n\n\nCome and grab a drink and meet professionals you wouldn't otherwise meet. We draw people from Menomonie\, Eau Claire\, MN and surrounding communities. Hope to see you there!
X-ALT-DESC;FMTTYPE=text/html:<strong>Connect Work Menomonie is a low-key\, fun networking event.</strong><br />\n<br />\nCome and grab a drink and meet professionals you wouldn&#39\;t otherwise meet. We draw people from Menomonie\, Eau Claire\, MN and surrounding communities. Hope to see you there!
LOCATION:Lucette Brewing Company 910 Hudson Rd. Menomonie\, WI
UID:e.64.37290
SEQUENCE:3
DTSTAMP:20260425T192657Z
URL:https://business.menomoniechamber.org/events/details/connect-work-menomonie-37290
END:VEVENT

END:VCALENDAR
