BEGIN:VCALENDAR
VERSION:2.0
PRODID:-//ChamberMaster//Event Calendar 2.0//EN
METHOD:PUBLISH
X-PUBLISHED-TTL:P3D
REFRESH-INTERVAL:P3D
CALSCALE:GREGORIAN
BEGIN:VEVENT
DTSTART:20260401T150000Z
DTEND:20260401T190000Z
X-MICROSOFT-CDO-ALLDAYEVENT:FALSE
SUMMARY:Annual Wellness Fair - UW Stout
DESCRIPTION:The Annual Wellness Fair is a collaborative program planned by the Campus Wellness Committee. It is the largest health fair in Dunn County\, featuring more than 40 health and wellness vendors from our community.  Admission is free for all students\, faculty\, staff\, and community members!\n\n2026 Event Information\n\nWednesday\, April 1\, 2026\n\n10:00 a.m. - 2:00 p.m.\n\n*Limited metered parking is available in Lot 29 on 13th Ave and on surrounding streets.
X-ALT-DESC;FMTTYPE=text/html:<section 86056="" class="section section-pad--bottom content-text" style="box-sizing: border-box\; position: relative\; padding-bottom: 2.25em\; color: rgb(52\, 63\, 71)\; font-family: &quot\;Franklin Gothic&quot\;\, Helvetica\, Arial\, &quot\;Nimbus Sans L&quot\;\, sans-serif\; font-size: 19.84px\;">\n<div class="container" style="box-sizing: border-box\; width: 1200px\; min-width: 260px\; padding-left: 0px\; padding-right: 0px\; margin: 0px auto\; max-width: 1200px\;">\n<div class="l-content--main" style="box-sizing: border-box\; width: 784.608px\; float: left\; margin-left: 0px\; margin-right: -1200px\; clear: both\; position: relative\; z-index: 2\;">\n<div style="box-sizing: border-box\; margin-top: 0px\; margin-bottom: 0px\;">\n<p style="box-sizing: border-box\; margin: 0px 0px 1.5em\;"><span style="font-size:12px\;"><span style="font-family:arial\;">The Annual Wellness Fair is a collaborative program planned by the Campus Wellness Committee. It is the largest health fair in Dunn County\, featuring more than 40 health and wellness vendors from our community.&nbsp\; Admission is free for all students\, faculty\, staff\, and community members!</span></span><br />\n<span style="font-size:12px\;"><span style="font-family:arial\;"><span style="box-sizing: border-box\; font-weight: 600\;">2026 Event Information</span></span></span><br />\n<span style="font-size:12px\;"><span style="font-family:arial\;">Wednesday\, April 1\, 2026<br style="box-sizing: border-box\;" />\n10:00 a.m. - 2:00 p.m.</span></span><br />\n<span style="font-size:12px\;"><span style="font-family:arial\;">*Limited metered parking is available in Lot 29 on 13th Ave and on surrounding streets.</span></span></p>\n</div>\n</div>\n</div>\n</section>\n
LOCATION:University of Wisconsin-Stout Sports & Fitness Center\, Room 50 (MPR) Lower Level 220 13th Avenue E\, Menomonie\, WI 5475
UID:e.64.37226
SEQUENCE:3
DTSTAMP:20260425T150818Z
URL:https://business.menomoniechamber.org/events/details/annual-wellness-fair-uw-stout-37226
END:VEVENT

END:VCALENDAR
