BEGIN:VCALENDAR
VERSION:2.0
PRODID:-//ChamberMaster//Event Calendar 2.0//EN
METHOD:PUBLISH
X-PUBLISHED-TTL:P3D
REFRESH-INTERVAL:P3D
CALSCALE:GREGORIAN
BEGIN:VEVENT
DTSTART:20221203T150000Z
DTEND:20221203T200000Z
X-MICROSOFT-CDO-ALLDAYEVENT:FALSE
SUMMARY:Airtec Sports 2nd Annual Customer Appreciation
DESCRIPTION:Join the Airtec Sports team at the 2nd Annual Customer Appreciation on December 3 from 9 AM - 2 PM!  Enjoy a delicious charcoal chicken lunch from 11 AM - 1 PM and enter your chance to win a Can-am Renegade 70 Youth ATV and other fun prizes!
X-ALT-DESC;FMTTYPE=text/html:Join the Airtec Sports team at the 2nd Annual Customer Appreciation on December 3 from 9 AM - 2 PM!&nbsp\; Enjoy a delicious charcoal chicken lunch from 11 AM - 1 PM and enter your chance to win a Can-am Renegade 70 Youth ATV and other fun prizes!
LOCATION:Airtech Sports E4710 County Road BB Menomonie\, WI 54751
UID:e.64.34668
SEQUENCE:3
DTSTAMP:20260421T154812Z
URL:https://business.menomoniechamber.org/events/details/airtec-sports-2nd-annual-customer-appreciation-34668
END:VEVENT

END:VCALENDAR
