BEGIN:VCALENDAR
VERSION:2.0
PRODID:-//ChamberMaster//Event Calendar 2.0//EN
METHOD:PUBLISH
X-PUBLISHED-TTL:P3D
REFRESH-INTERVAL:P3D
CALSCALE:GREGORIAN
BEGIN:VEVENT
DTSTART:20260520T123000Z
DTEND:20260520T140000Z
X-MICROSOFT-CDO-ALLDAYEVENT:FALSE
SUMMARY:2026 Wisconsin Competitiveness Report
DESCRIPTION:Join us for a timely and high-impact event as Kurt Bauer\, President & CEO of Wisconsin Manufacturers & Commerce\, presents the newly released Wisconsin Competitiveness Report a data-driven blueprint for securing our state's economic future.\n\nWisconsin is at a crossroads. A shrinking workforce\, rising costs\, regulatory pressures\, and broader economic headwinds are creating serious hurdles for employers across the state. For Chippewa Valley businesses\, these challenges translate directly into talent shortages\, tighter margins\, and elevated competition in a region that relies heavily on growth and innovation. This session will highlight the most imporatnt trends shaping the business climate today and why they matter for leaders working to maintain stability and drive future success.\n\nIn this engaging presentation\, Kurt Bauer will break down what's holding Wisconsin back\, why it matters to your business\, and most importantly the practical\, ready-to-enact solutions that can help move our state forward. Backed by real economic data and the collective voice of the business community\, the report offers insights every Chippewa Valley business leader needs to help shape policies that keep our region and our state positioned for long-term success\n\nExclusively for Chamber members\, connect with peers facing similar challenges\, access unique insights to power your advocacy\, and contribute to shaping policies that protect and grow your business   benefits that establish members as leaders in regional economic growth.  Co-sponsored with the Eau Claire Area Chamber and the Menomonie Area Chamber and Visitor Center\, members of all three Chambers are invited to attend.\n\nCost to attend: $30  (Note: If you are a member of the Chippewa Chamber and wish to be invoiced for your registration\, please email Mandy@chippewachamber.org to register.) \n\n      7:30-8:00am - Networking\; breakfast buffet \n\n      8:00-9:00am - Program and Q & A\n\nWhat is the Wisconsin Competitiveness Report?  Read it HERE\n\nRegister to Attend
X-ALT-DESC;FMTTYPE=text/html:<p style="box-sizing: border-box\; margin: 0px 0px 11px\; line-height: 1.5\; color: rgb(44\, 44\, 44)\; font-family: Arial\; font-size: 14px\; text-align: justify\;"><span style="box-sizing: border-box\; line-height: 16.1px\;"><span style="box-sizing: border-box\; font-size: 12pt\; font-family: Aptos\, sans-serif\;">Join us for a timely and high-impact event as&nbsp\;<span style="box-sizing: border-box\; font-weight: 700\;">Kurt Bauer\, President &amp\; CEO of Wisconsin Manufacturers &amp\; Commerce</span>\, presents the newly released&nbsp\;<i style="box-sizing: border-box\;">Wisconsin Competitiveness Report</i>&mdash\;a data-driven blueprint for securing our state&rsquo\;s economic future.</span></span></p>\n\n<p style="box-sizing: border-box\; margin: 0px 0px 11px\; line-height: 1.5\; color: rgb(44\, 44\, 44)\; font-family: Arial\; font-size: 14px\; text-align: justify\;"><span style="box-sizing: border-box\; font-size: 12pt\;"><span style="box-sizing: border-box\; line-height: 18.4px\;"><span style="box-sizing: border-box\; font-family: Aptos\, sans-serif\;"><span style="box-sizing: border-box\; font-weight: 700\;">Wisconsin is at a crossroads.&nbsp\;</span>A shrinking workforce\, rising costs\, regulatory pressures\, and broader economic headwinds are creating serious hurdles for employers across the state. For Chippewa Valley businesses\, these challenges translate directly into talent shortages\, tighter margins\, and elevated competition in a region that relies heavily on growth and innovation. This session will highlight the most imporatnt trends shaping the business climate today and why they matter for leaders working to maintain stability and drive future success.</span></span></span></p>\n\n<p style="box-sizing: border-box\; margin: 0px 0px 11px\; line-height: 1.5\; color: rgb(44\, 44\, 44)\; font-family: Arial\; font-size: 14px\; text-align: justify\;"><span style="box-sizing: border-box\; font-size: 12pt\;"><span style="box-sizing: border-box\; line-height: 18.4px\;"><span style="box-sizing: border-box\; font-family: Aptos\, sans-serif\;">In this engaging presentation\, Kurt Bauer will break down what&rsquo\;s holding Wisconsin back\, why it matters to your business\, and&mdash\;most importantly&mdash\;the practical\, ready-to-enact solutions that can help move our state forward. Backed by real economic data and the collective voice of the business community\, the report offers insights every Chippewa Valley business leader needs to help shape policies that keep our region&mdash\;and our state&mdash\;positioned for long-term success</span></span></span></p>\n\n<p style="box-sizing: border-box\; margin: 0px 0px 11px\; line-height: 1.5\; color: rgb(44\, 44\, 44)\; font-family: Arial\; font-size: 14px\; text-align: justify\;"><span style="box-sizing: border-box\; font-size: 12pt\;"><span style="box-sizing: border-box\; line-height: 18.4px\;"><span style="box-sizing: border-box\; font-family: Aptos\, sans-serif\;">Exclusively for Chamber members\, connect with peers facing similar challenges\, access unique insights to power your advocacy\, and contribute to shaping policies that protect and grow your business &ndash\; benefits that establish members as leaders in regional economic growth.&nbsp\; Co-sponsored with the Eau Claire Area Chamber and the Menomonie Area Chamber and Visitor Center\, members of all three Chambers are invited to attend.</span></span></span></p>\n\n<p style="box-sizing: border-box\; margin: 0px 0px 11px\; line-height: 1.5\; color: rgb(44\, 44\, 44)\; font-family: Arial\; font-size: 14px\; text-align: justify\;"><span style="box-sizing: border-box\; font-size: 12pt\;"><span style="box-sizing: border-box\; line-height: 18.4px\;"><span style="box-sizing: border-box\; font-family: Aptos\, sans-serif\;">Cost to attend: $30&nbsp\;&nbsp\;<em style="box-sizing: border-box\;">(Note: If you are a member of the Chippewa Chamber and wish to be invoiced for your registration\, please email Mandy@chippewachamber.org to register.)</em>&nbsp\;</span></span></span></p>\n\n<p style="box-sizing: border-box\; margin: 0px 0px 1rem\; line-height: 1.5\; color: rgb(44\, 44\, 44)\; font-family: Arial\; font-size: 14px\; text-align: justify\;"><span style="box-sizing: border-box\; font-size: 12pt\;"><span style="box-sizing: border-box\; font-family: Aptos\, sans-serif\;">&nbsp\; &nbsp\; &nbsp\; 7:30-8:00am - Networking\; breakfast buffet&nbsp\;</span></span></p>\n\n<p style="box-sizing: border-box\; margin: 0px 0px 1rem\; line-height: 1.5\; color: rgb(44\, 44\, 44)\; font-family: Arial\; font-size: 14px\; text-align: justify\;"><span style="box-sizing: border-box\; font-size: 12pt\;"><span style="box-sizing: border-box\; font-family: Aptos\, sans-serif\;">&nbsp\; &nbsp\; &nbsp\; 8:00-9:00am - Program and Q &amp\; A</span></span></p>\n\n<p style="box-sizing: border-box\; margin: 0px 0px 1rem\; line-height: 1.5\; color: rgb(44\, 44\, 44)\; font-family: Arial\; font-size: 14px\; text-align: justify\;">What is the Wisconsin Competitiveness Report?&nbsp\; Read it&nbsp\;<a href="https://www.wmcfoundation.org/wp-content/uploads/2026/02/WMC-Competitiveness-Report-FINAL.pdf" style="box-sizing: border-box\; background-color: transparent\; color: rgb(40\, 116\, 149)\; text-decoration: none\; cursor: pointer\;" target="_blank">HERE</a><br />\n<a href="https://web.chippewachamber.org/atlas/events-v4/register/11032">Register to Attend</a></p>\n
LOCATION:Sleep Inn & Suites Conference Center 5872 33rd Avenue Eau Claire\, WI 54703
UID:e.64.37286
SEQUENCE:3
DTSTAMP:20260421T105959Z
URL:https://business.menomoniechamber.org/events/details/2026-wisconsin-competitiveness-report-37286
END:VEVENT

END:VCALENDAR
