BEGIN:VCALENDAR
VERSION:2.0
PRODID:-//ChamberMaster//Event Calendar 2.0//EN
METHOD:PUBLISH
X-PUBLISHED-TTL:P3D
REFRESH-INTERVAL:P3D
CALSCALE:GREGORIAN
BEGIN:VEVENT
DTSTART:20220822T210000Z
DTEND:20220823T010000Z
X-MICROSOFT-CDO-ALLDAYEVENT:FALSE
SUMMARY:2022 Young Professionals Bags for Benefit
DESCRIPTION:The Young Professionals steering committee continue to provide unique and fun ways to network\, promote your business\, and have fun all at the same time.  \n\n\n\nParticipate in the first annual cornhole tournament with profits going to the Dunn County Humane Society this year.
X-ALT-DESC;FMTTYPE=text/html:<div class="kvgmc6g5 cxmmr5t8 oygrvhab hcukyx3x c1et5uql" style="overflow-wrap: break-word\; margin: 0px\; font-family: &quot\;Segoe UI Historic&quot\;\, &quot\;Segoe UI&quot\;\, Helvetica\, Arial\, sans-serif\; color: rgb(5\, 5\, 5)\; font-size: 15px\;">The Young Professionals steering committee continue to provide unique and fun ways to network\, promote your business\, and have fun all at the same time.&nbsp\;&nbsp\;<br />\n<br />\nParticipate in the first annual cornhole tournament with profits going to the Dunn County Humane Society this year.</div>\n
LOCATION:Lucette Brewing Company 910 Hudson Road Menomonie\, WI 54751
UID:e.64.33513
SEQUENCE:3
DTSTAMP:20260421T182518Z
URL:https://business.menomoniechamber.org/events/details/2022-young-professionals-bags-for-benefit-33513
END:VEVENT

END:VCALENDAR
