BEGIN:VCALENDAR
VERSION:2.0
PRODID:-//ChamberMaster//Event Calendar 2.0//EN
METHOD:PUBLISH
X-PUBLISHED-TTL:P3D
REFRESH-INTERVAL:P3D
CALSCALE:GREGORIAN
BEGIN:VEVENT
DTSTART:20220427T170000Z
DTEND:20220427T180000Z
X-MICROSOFT-CDO-ALLDAYEVENT:FALSE
SUMMARY:2022 Business Professionals Program
DESCRIPTION:Chamber investor businesses and their employees are encouraged to attend professional development activities that take place throughout the year both in-person and by virtual means. Topics may include but are not limited to: resources for business funding\, employment and workforce strategies\, work-life harmony\, building business connections\, customer service skill building\, advocacy efforts and more. \n\n\n\nPlatinum Sponsors are invited to speak to our investors about a topic that is relevant to their business industry.\n\n\n\nCOFFEE & COMMERCE - June 22 at Trimble Dental \n\nENTREPRENUERS IN ACTION - July 20\; 12-1PM\, ZOOM\n\nCOFFEE & COMMERCE - August 21\; 7:30-8:30AM location TBD\n\nENTREPRENUERS IN ACTION - October 26\; 12-1PM\, ZOOM\n\nCOFFEE & COMMERCE - December 7\; 7:30-8:30AM location TBD
X-ALT-DESC;FMTTYPE=text/html:Chamber investor businesses and their employees are encouraged to attend professional development activities that take place throughout the year both in-person and by virtual means. Topics may include but are not limited to: resources for business funding\, employment and workforce strategies\, work-life harmony\, building business connections\, customer service skill building\, advocacy efforts and more.&nbsp\;<br />\n<br />\nPlatinum Sponsors are invited to speak to our investors about a topic that is relevant to their business industry.<br />\n<br />\n<b>COFFEE &amp\; COMMERCE - June 22 at Trimble Dental&nbsp\;<br />\nENTREPRENUERS IN ACTION - July 20\; 12-1PM\, ZOOM<br />\nCOFFEE &amp\; COMMERCE - August 21\; 7:30-8:30AM location TBD<br />\nENTREPRENUERS IN ACTION - October 26\; 12-1PM\, ZOOM<br />\nCOFFEE &amp\; COMMERCE - December 7\; 7:30-8:30AM location TBD</b><br />\n<br />\n&nbsp\;
LOCATION:Trimble Dental 460 Crescent Street Menomonie WI 54751
UID:e.64.33424
SEQUENCE:3
DTSTAMP:20260422T092114Z
URL:https://business.menomoniechamber.org/events/details/2022-business-professionals-program-33424
END:VEVENT

END:VCALENDAR
