BEGIN:VCALENDAR
VERSION:2.0
PRODID:-//ChamberMaster//Event Calendar 2.0//EN
METHOD:PUBLISH
X-PUBLISHED-TTL:P3D
REFRESH-INTERVAL:P3D
CALSCALE:GREGORIAN
BEGIN:VEVENT
DTSTART:20190121T230000Z
DTEND:20190122T003000Z
X-MICROSOFT-CDO-ALLDAYEVENT:FALSE
SUMMARY:2019 Business After Hours Program
DESCRIPTION:The social networking event of the month. Typically held on the 3rd Monday of each month. This event is held at sponsoring businesses\, a different one each time. Our program brings chamber members and non-members of the Menomonie area together in a relaxed\, social setting to learn more about each other\, for both business and pleasure. Remember to bring your business cards to exchange. \n\n\n\nREGISTER HERE\n\nNovember - Ted's Pizza\, Inc.\, Weld Riley\, S.C. and Marketplace Foods brings you November BAH Holiday Party! \n\nOctober - Royal Credit Union\, WESTconsin Credit Union\, Dunn Energy Cooperative\, Menomonie Market\, 24/7 Telcom bring you October BAH!  \n\nSeptember - Associated Bank\, Marshfield Clinic Health System\, and Cancun Mexican Grill bring you September BAH! \n\nAugust - Business at the Airport. Collaboration with the Eau Claire and Chippewa Falls Chambers.\n\nJuly - Northtown Ford brings you July BAH! \n\nJune - Tanglewood Greens and Vets Plus bring you June BAH! \n\nApril - Clear Connection Chiropractic\, Culver's and Junction Liquor bring you April's BAH. \n\nMarch - Brewery Nonic\, Dairy State Bank\, and Dunn County Farm Bureau are all in kahoots to bring you March BAH.\n\nFebruary - Best Western Plus Menomonie Inn and Suites & the Stout Ale House come together for your February BAH.
X-ALT-DESC;FMTTYPE=text/html:<span style="font-family:verdana\;">The social networking event of the month. Typically held on the <strong>3rd Monday of each month</strong>. This event is held at sponsoring businesses\, a different one each time. Our program brings chamber members and non-members of the Menomonie area together in a relaxed\, social setting to learn more about each other\, for both business and pleasure. Remember to bring your business cards to exchange.&nbsp\;<br />\n<br />\n<strong>REGISTER HERE<br />\n<span style="font-size:14px\;"><a href="https://business.menomoniechamber.org/events/details/2019-business-after-hours-november-26523">November</a>&nbsp\;- Ted&#39\;s Pizza\, Inc.\, Weld Riley\, S.C. and Marketplace Foods brings you November BAH Holiday Party!&nbsp\;<br />\n<a href="https://business.menomoniechamber.org/events/details/2019-business-after-hours-october-26522">October&nbsp\;</a>-&nbsp\;Royal Credit Union\, <em>WEST</em>consin Credit Union\, Dunn Energy Cooperative\, Menomonie Market\, 24/7 Telcom&nbsp\;bring you October BAH!&nbsp\;&nbsp\;<br />\n<a href="https://business.menomoniechamber.org/events/details/2019-business-after-hours-september-26519">September</a> -&nbsp\;Associated Bank\, Marshfield Clinic Health System\, and Cancun Mexican Grill bring you September BAH!&nbsp\;<br />\n<a href="https://business.menomoniechamber.org/events/details/2019-business-at-the-airport-26516">August</a>&nbsp\;-&nbsp\;Business at the Airport. Collaboration with the Eau Claire and Chippewa Falls Chambers.<br />\n<a href="https://business.menomoniechamber.org/events/details/2019-business-after-hours-july-26515">July</a>&nbsp\;-&nbsp\;Northtown Ford brings you July BAH!&nbsp\;<br />\n<a href="https://business.menomoniechamber.org/events/details/2019-business-after-hours-june-26513">June</a>&nbsp\;-&nbsp\;Tanglewood Greens and Vets Plus bring you June BAH!&nbsp\;<br />\n<a href="https://business.menomoniechamber.org/events/details/2019-business-after-hours-april-26509">April</a>&nbsp\;-&nbsp\;Clear Connection Chiropractic\, Culver&#39\;s and Junction Liquor bring you April&#39\;s BAH.&nbsp\;<br />\n<a href="https://business.menomoniechamber.org/events/details/2019-business-after-hours-march-26505">March</a> -&nbsp\;Brewery Nonic\, Dairy State Bank\, and Dunn County Farm Bureau are all in kahoots to bring you March BAH.<br />\n<a href="https://business.menomoniechamber.org/events/details/2019-business-after-hours-february-26504">February</a>&nbsp\;-&nbsp\;Best Western Plus Menomonie Inn and Suites &amp\; the Stout Ale House come together for your February BAH.</span></strong></span><br />\n&nbsp\;
LOCATION:
UID:e.64.26611
SEQUENCE:3
DTSTAMP:20260426T014304Z
URL:https://business.menomoniechamber.org/events/details/2019-business-after-hours-program-26611
END:VEVENT

END:VCALENDAR
