BEGIN:VCALENDAR
VERSION:2.0
PRODID:-//ChamberMaster//Event Calendar 2.0//EN
METHOD:PUBLISH
X-PUBLISHED-TTL:P3D
REFRESH-INTERVAL:P3D
CALSCALE:GREGORIAN
BEGIN:VEVENT
DTSTART:20190715T220000Z
DTEND:20190715T233000Z
X-MICROSOFT-CDO-ALLDAYEVENT:FALSE
SUMMARY:2019 Business After Hours July
DESCRIPTION:Join us for Business After Hours at Northtown Ford! This is a great time to meet new people and network with other business professionals in a relaxing environment! We look forward to seeing you there! \n\n\n\n$5-members\n\n$7-non members
X-ALT-DESC;FMTTYPE=text/html:Join us for Business After Hours at Northtown Ford! This is a great time to meet new people and network with other business professionals in a relaxing environment! We look forward to seeing you there!&nbsp\;<br />\n<br />\n$5-members<br />\n$7-non members
LOCATION:Northtown Ford
UID:e.64.26515
SEQUENCE:3
DTSTAMP:20260425T214324Z
URL:https://business.menomoniechamber.org/events/details/2019-business-after-hours-july-26515
END:VEVENT

END:VCALENDAR
